BEGIN:VCALENDAR
VERSION:2.0
PRODID:-//Library Market//iCal Export//EN
BEGIN:VEVENT
SUMMARY:Baby &amp; Toddler Time-July Session Wednesdays
UID:2347
DTSTAMP:20260423T115100Z
DTSTART:20240724T143000Z
DTEND:20240724T151500Z
LOCATION:Byron Public Library District, 100 S Washington St., Byron, IL 61
 010, United States
ROOM: Meeting Room
DESCRIPTION:
URL:https://www.byronlibrary.org/event/baby-toddler-time-july-session-wedn
 esdays-2347
END:VEVENT
END:VCALENDAR
