BEGIN:VCALENDAR
VERSION:2.0
PRODID:-//Library Market//iCal Export//EN
BEGIN:VEVENT
SUMMARY:Preschool Art Studio Storytime-Wednesday
UID:2351
DTSTAMP:20260423T115200Z
DTSTART:20240710T143000Z
DTEND:20240710T153000Z
LOCATION:Byron Public Library District, 100 S Washington St., Byron, IL 61
 010, United States
ROOM: Activity Room
DESCRIPTION:Join Miss Julie for stories, songs, movement and an art projec
 t! For ages 3-6 years. 
URL:https://www.byronlibrary.org/event/preschool-art-studio-storytime-wedn
 esday-2351
END:VEVENT
END:VCALENDAR
