BEGIN:VCALENDAR
VERSION:2.0
PRODID:-//Library Market//iCal Export//EN
BEGIN:VEVENT
SUMMARY:Playdough Playdate Storytime-Wednesday
UID:2353
DTSTAMP:20260423T115100Z
DTSTART:20240717T143000Z
DTEND:20240717T153000Z
LOCATION:Byron Public Library District, 100 S Washington St., Byron, IL 61
 010, United States
ROOM: Activity Room
DESCRIPTION:Join Miss Julie for stories, songs, movement, playtime with to
 ys, and playdough fun. For ages 3-6 years. 
URL:https://www.byronlibrary.org/event/playdough-playdate-storytime-wednes
 day-2353
END:VEVENT
END:VCALENDAR
