BEGIN:VCALENDAR
VERSION:2.0
PRODID:-//Library Market//iCal Export//EN
BEGIN:VEVENT
SUMMARY:Science Explorers Storytime-Wednesday
UID:2355
DTSTAMP:20260423T115100Z
DTSTART:20240724T143000Z
DTEND:20240724T153000Z
LOCATION:Byron Public Library District, 100 S Washington St., Byron, IL 61
 010, United States
ROOM: Activity Room
DESCRIPTION:Join Miss Julie for stories, songs, movement, playtime with to
 ys, and science experiments. For ages 3-6 years. 
URL:https://www.byronlibrary.org/event/science-explorers-storytime-wednesd
 ay-2355
END:VEVENT
END:VCALENDAR
