BEGIN:VCALENDAR
VERSION:2.0
PRODID:-//Library Market//iCal Export//EN
BEGIN:VEVENT
SUMMARY:Teen Time
UID:273
DTSTAMP:20260423T113600Z
DTSTART:20240424T200000Z
DTEND:20240424T220000Z
LOCATION:Byron Public Library District, 100 S Washington St., Byron, IL 61
 010, United States
ROOM: Teen Department &amp; Creative Studio
DESCRIPTION:
URL:https://www.byronlibrary.org/event/teen-time-273
END:VEVENT
END:VCALENDAR
