BEGIN:VCALENDAR
VERSION:2.0
PRODID:-//Library Market//iCal Export//EN
BEGIN:VEVENT
SUMMARY:Teen Time
UID:276
DTSTAMP:20260423T113500Z
DTSTART:20240430T200000Z
DTEND:20240430T220000Z
LOCATION:Byron Public Library District, 100 S Washington St., Byron, IL 61
 010, United States
ROOM: Teen Department &amp; Creative Studio
DESCRIPTION:
URL:https://www.byronlibrary.org/event/teen-time-276
END:VEVENT
END:VCALENDAR
