BEGIN:VCALENDAR
VERSION:2.0
PRODID:-//Library Market//iCal Export//EN
BEGIN:VEVENT
SUMMARY:Juggler Jason Kollum
UID:285
DTSTAMP:20260423T115100Z
DTSTART:20240624T230000Z
DTEND:20240625T000000Z
LOCATION:Byron Public Library District, 100 S Washington St., Byron, IL 61
 010, United States
ROOM: Meeting Room
DESCRIPTION:Join us for Jason Kollum&#039;s high energy comedy &amp; juggl
 ing show. All children (except infants) and adults should register. 
URL:https://www.byronlibrary.org/event/juggler-jason-kollum-285
END:VEVENT
END:VCALENDAR
