BEGIN:VCALENDAR
VERSION:2.0
PRODID:-//Library Market//iCal Export//EN
BEGIN:VEVENT
SUMMARY:Lovely Lids: Magnets
UID:3008
DTSTAMP:20260423T115100Z
DTSTART:20240823T140000Z
DTEND:20240823T220000Z
LOCATION:Byron Public Library District, 100 S Washington St., Byron, IL 61
 010, United States
ROOM: Lovely Lids: Magnets
DESCRIPTION:Create an adorable set of 4 magnets by repurposing jar lids! K
 its will be available for pick-up on Friday, August 23rd.
URL:https://www.byronlibrary.org/event/lovely-lids-magnets-3008
END:VEVENT
END:VCALENDAR
