BEGIN:VCALENDAR
VERSION:2.0
PRODID:-//Library Market//iCal Export//EN
BEGIN:VEVENT
SUMMARY:Outdoor Fun Day @ the Heritage Farm
UID:309
DTSTAMP:20260423T115100Z
DTSTART:20240515T150000Z
DTEND:20240515T163000Z
LOCATION:Heritage Farm Museum, 8059 N. River Road, Byron, IL 61010, United
  States
ROOM: Byron Forest Preserve: Heritage Farm
DESCRIPTION:Join the Miss Julie from the Byron Public Library and Miss Cry
 stal &amp; Miss Tara from the Byron Forest Preserve for an outdoor fun day
 ! Bubbles, art, giant block play and an inflatable bounce house! Plus chec
 k out the StoryWalk.® Come anytime during the event.
URL:https://www.byronlibrary.org/event/outdoor-fun-day-heritage-farm-309
END:VEVENT
END:VCALENDAR
