BEGIN:VCALENDAR
VERSION:2.0
PRODID:-//Library Market//iCal Export//EN
BEGIN:VEVENT
SUMMARY:Read to a Dog
UID:312
DTSTAMP:20260423T113200Z
DTSTART:20240506T224500Z
DTEND:20240506T230000Z
LOCATION:Byron Public Library District, 100 S Washington St., Byron, IL 61
 010, United States
ROOM: Porch
DESCRIPTION:
URL:https://www.byronlibrary.org/event/read-dog-312
END:VEVENT
END:VCALENDAR
