BEGIN:VCALENDAR
VERSION:2.0
PRODID:-//Library Market//iCal Export//EN
BEGIN:VEVENT
SUMMARY:Free Comic Book Day
UID:314
DTSTAMP:20260423T113200Z
DTSTART:20240504T140000Z
DTEND:20240504T170000Z
LOCATION:Byron Public Library District, 100 S Washington St., Byron, IL 61
 010, United States
ROOM: Lobby
DESCRIPTION:Stop by the library from 9:00 am- 12:00 pm and pick up your fr
 ee comic books! We have comics for all ages. Come early to guarantee the 
 best selection. It will be in the downstairs lobby by the fireplace. No re
 gistration is needed- just show up! 
URL:https://www.byronlibrary.org/event/free-comic-book-day-314
END:VEVENT
END:VCALENDAR
