BEGIN:VCALENDAR
VERSION:2.0
PRODID:-//Library Market//iCal Export//EN
BEGIN:VEVENT
SUMMARY:Volunteens- Meals on Wheels
UID:315
DTSTAMP:20260423T115100Z
DTSTART:20240506T230000Z
DTEND:20240507T000000Z
LOCATION:Byron Public Library District, 100 S Washington St., Byron, IL 61
 010, United States
ROOM: Boardroom
DESCRIPTION:Volunteer for an hour by drawing on lunch bags for the organiz
 ation Meals on Wheels.  This will be the last volunteer opportunity for t
 he school year, as Volunteens will resume in September. 
URL:https://www.byronlibrary.org/event/volunteens-meals-wheels-315
END:VEVENT
END:VCALENDAR
