BEGIN:VCALENDAR
VERSION:2.0
PRODID:-//Library Market//iCal Export//EN
BEGIN:VEVENT
SUMMARY:Making Mozzarella
UID:322
DTSTAMP:20260423T113300Z
DTSTART:20240529T230000Z
DTEND:20240530T000000Z
LOCATION:Byron Public Library District, 100 S Washington St., Byron, IL 61
 010, United States
ROOM: Meeting Room
DESCRIPTION:May is National Cheese Month. Come learn how to make mozzarell
 a cheese. 
URL:https://www.byronlibrary.org/event/making-mozzarella-322
END:VEVENT
END:VCALENDAR
