BEGIN:VCALENDAR
VERSION:2.0
PRODID:-//Library Market//iCal Export//EN
BEGIN:VEVENT
SUMMARY:DIY Earrings Kit
UID:323
DTSTAMP:20260423T113400Z
DTSTART:20240517T140000Z
DTEND:20240517T220000Z
LOCATION:Byron Public Library District, 100 S Washington St., Byron, IL 61
 010, United States
ROOM: DIY Earrings Kit
DESCRIPTION:Create 4 pairs of summertime earrings with supplies included i
 n this pick-up kit! Bonus gifting supplies to give your creations as gifts
 !
URL:https://www.byronlibrary.org/event/diy-earrings-kit-323
END:VEVENT
END:VCALENDAR
