BEGIN:VCALENDAR
VERSION:2.0
PRODID:-//Library Market//iCal Export//EN
BEGIN:VEVENT
SUMMARY:Needles &amp; Hooks
UID:331
DTSTAMP:20260423T082800Z
DTSTART:20240521T150000Z
DTEND:20240521T170000Z
LOCATION:Byron Public Library District, 100 S Washington St., Byron, IL 61
 010, United States
ROOM: Classroom 2
DESCRIPTION:
URL:https://www.byronlibrary.org/event/needles-hooks-331
END:VEVENT
END:VCALENDAR
