BEGIN:VCALENDAR
VERSION:2.0
PRODID:-//Library Market//iCal Export//EN
BEGIN:VEVENT
SUMMARY:Refrigerator Dill Pickles
UID:3325
DTSTAMP:20260423T113300Z
DTSTART:20240807T230000Z
DTEND:20240808T000000Z
LOCATION:Byron Public Library District, 100 S Washington St., Byron, IL 61
 010, United States
ROOM: Meeting Room
DESCRIPTION:Do you love pickles? Come learn an easy way to make dill pickl
 es at home and enjoy a sample. 
URL:https://www.byronlibrary.org/event/refrigerator-dill-pickles-3325
END:VEVENT
END:VCALENDAR
