BEGIN:VCALENDAR
VERSION:2.0
PRODID:-//Library Market//iCal Export//EN
BEGIN:VEVENT
SUMMARY:Sewing - Dog Waste Bag Holder
UID:3327
DTSTAMP:20260423T115100Z
DTSTART:20240828T223000Z
DTEND:20240829T000000Z
LOCATION:Byron Public Library District, 100 S Washington St., Byron, IL 61
 010, United States
ROOM: Creative Studio
DESCRIPTION:Our sewing project for August is a Dog Waste Bag Holder. 
URL:https://www.byronlibrary.org/event/sewing-dog-waste-bag-holder-3327
END:VEVENT
END:VCALENDAR
