BEGIN:VCALENDAR
VERSION:2.0
PRODID:-//Library Market//iCal Export//EN
BEGIN:VEVENT
SUMMARY:Wheel of Fortune
UID:3328
DTSTAMP:20260423T113400Z
DTSTART:20240830T150000Z
DTEND:20240830T160000Z
LOCATION:Byron Public Library District, 100 S Washington St., Byron, IL 61
 010, United States
ROOM: Classroom 1
DESCRIPTION:Come spin the wheel for some morning fun. Coffee will be on!
URL:https://www.byronlibrary.org/event/wheel-fortune-3328
END:VEVENT
END:VCALENDAR
