BEGIN:VCALENDAR
VERSION:2.0
PRODID:-//Library Market//iCal Export//EN
BEGIN:VEVENT
SUMMARY:Friday Trivia
UID:3329
DTSTAMP:20260423T115100Z
DTSTART:20240802T150000Z
DTEND:20240802T163000Z
LOCATION:Byron Public Library District, 100 S Washington St., Byron, IL 61
 010, United States
ROOM: Meeting Room
DESCRIPTION:
URL:https://www.byronlibrary.org/event/friday-trivia-3329
END:VEVENT
END:VCALENDAR
