BEGIN:VCALENDAR
VERSION:2.0
PRODID:-//Library Market//iCal Export//EN
BEGIN:VEVENT
SUMMARY:Wednesday Night Readers
UID:3331
DTSTAMP:20260423T115100Z
DTSTART:20240821T233000Z
DTEND:20240822T003000Z
LOCATION:Byron Public Library District, 100 S Washington St., Byron, IL 61
 010, United States
ROOM: Classroom 1
DESCRIPTION:Consumed with grief, driven by vengeance, a man undertakes an 
 unrelenting odyssey across the lawless post–Civil War frontier seeking r
 edemption in this fearless novel from the award-winning and New York Times
  bestselling author of News of the World.
URL:https://www.byronlibrary.org/event/wednesday-night-readers-3331
END:VEVENT
END:VCALENDAR
