BEGIN:VCALENDAR
VERSION:2.0
PRODID:-//Library Market//iCal Export//EN
BEGIN:VEVENT
SUMMARY:Teen Game Night
UID:3442
DTSTAMP:20260423T115100Z
DTSTART:20240801T230000Z
DTEND:20240802T003000Z
LOCATION:Byron Public Library District, 100 S Washington St., Byron, IL 61
 010, United States
ROOM: Teen Department
DESCRIPTION:Want to learn new games but the rules seem daunting to learn? 
 Gaming enthusiast Dakota will guide you through learning a new game each m
 onth! First up- Sushi Go Party! 
URL:https://www.byronlibrary.org/event/teen-game-night-3442
END:VEVENT
END:VCALENDAR
