BEGIN:VCALENDAR
VERSION:2.0
PRODID:-//Library Market//iCal Export//EN
BEGIN:VEVENT
SUMMARY:Ice Cream Party for Teens
UID:3446
DTSTAMP:20260423T115100Z
DTSTART:20240822T230000Z
DTEND:20240823T003000Z
LOCATION:Byron Public Library District, 100 S Washington St., Byron, IL 61
 010, United States
ROOM: Teen Department &amp; Creative Studio
DESCRIPTION:Celebrate (or sob) that you are back in school! Make a delicio
 us ice cream sundae. 
URL:https://www.byronlibrary.org/event/ice-cream-party-teens-3446
END:VEVENT
END:VCALENDAR
