BEGIN:VCALENDAR
VERSION:2.0
PRODID:-//Library Market//iCal Export//EN
BEGIN:VEVENT
SUMMARY:Teen Movie &amp; Pizza
UID:3447
DTSTAMP:20260423T115200Z
DTSTART:20240805T170000Z
DTEND:20240805T190000Z
LOCATION:Byron Public Library District, 100 S Washington St., Byron, IL 61
 010, United States
ROOM: Teen Department
DESCRIPTION:Watch the 2023 animated movie in which you will meet the Mario
  brothers. These plumbers are separated after being transported to a fanta
 sy world and become entangled in a battle between the Mushroom Kingdom, an
 d meet Princess Peach, the Koopas and Bowser! Pizza will be served.The Sup
 er Mario Bros. Movie- Rated PG, Runtime 1:32
URL:https://www.byronlibrary.org/event/teen-movie-pizza-3447
END:VEVENT
END:VCALENDAR
