BEGIN:VCALENDAR
VERSION:2.0
PRODID:-//Library Market//iCal Export//EN
BEGIN:VEVENT
SUMMARY:Teen Time
UID:3448
DTSTAMP:20260423T113400Z
DTSTART:20240826T200000Z
DTEND:20240826T220000Z
LOCATION:Byron Public Library District, 100 S Washington St., Byron, IL 61
 010, United States
ROOM: Teen Department &amp; Creative Studio
DESCRIPTION:Join our after-school Teen Time in our teen department! Come h
 ang out with friends, make crafts and play video games in a space that was
  created just for YOU!  Come anytime between 3-5 pm- no registration requ
 ired. 
URL:https://www.byronlibrary.org/event/teen-time-3448
END:VEVENT
END:VCALENDAR
