BEGIN:VCALENDAR
VERSION:2.0
PRODID:-//Library Market//iCal Export//EN
BEGIN:VEVENT
SUMMARY:&quot;My Dad is a Tree&quot; StoryWalk®-Jarrett Prairie Center
UID:3453
DTSTAMP:20260423T115100Z
DTSTART:20240628T050000Z
DTEND:20240811T050000Z
LOCATION:Byron Forest Preserve Jarrett Prairie Center, 7993 North River Ro
 ad, Byron, IL 61010, United States
ROOM: Byron Forest Preserve: Indigo Trail StoryWalk
DESCRIPTION:Current book: &quot;My Dad is a Tree&quot; by John Agee. A lit
 tle girl convinces her dad to be a tree all day long, no matter what, even
  in the rain, in this imaginative picture book that encourages playing pre
 tend and pays tribute to parents.
URL:https://www.byronlibrary.org/event/my-dad-tree-storywalkr-jarrett-prai
 rie-center-3453
END:VEVENT
END:VCALENDAR
