BEGIN:VCALENDAR
VERSION:2.0
PRODID:-//Library Market//iCal Export//EN
BEGIN:VEVENT
SUMMARY:&quot;One of These is Not Like the Others&quot; StoryWalk®-Herita
 ge Farm
UID:3454
DTSTAMP:20260423T115100Z
DTSTART:20240628T050000Z
DTEND:20240720T050000Z
LOCATION:Heritage Farm Museum, 8059 N. River Road, Byron, IL 61010, United
  States
ROOM: Byron Forest Preserve: Heritage Farm
DESCRIPTION:Current book: &quot;One of These is Not Like the Others&quot; 
 by Barney Saltzberg. One of these is not like that other--and that&#039;s 
 great! This gently subversive picture book points out-- and celebrates!-- 
 the differences between subjects. Barney Saltzberg&#039;s hilarious and de
 lightfully direct text and simple illustrations introduce children to the 
 concept and splendor of inclusiveness, through recognizing who or what&#03
 9;s different on each spread and celebrating the unity as it is.
URL:https://www.byronlibrary.org/event/one-these-not-others-storywalkr-her
 itage-farm-3454
END:VEVENT
END:VCALENDAR
