BEGIN:VCALENDAR
VERSION:2.0
PRODID:-//Library Market//iCal Export//EN
BEGIN:VEVENT
SUMMARY:Oldies Music
UID:3554
DTSTAMP:20260423T115100Z
DTSTART:20240827T183000Z
DTEND:20240827T193000Z
LOCATION:Byron Public Library District, 100 S Washington St., Byron, IL 61
 010, United States
ROOM: Meeting Room
DESCRIPTION:Come join us for an afternoon of oldies music with Ron Kroeger
 !
URL:https://www.byronlibrary.org/event/ogle-county-dixie-five-3554
END:VEVENT
END:VCALENDAR
