BEGIN:VCALENDAR
VERSION:2.0
PRODID:-//Library Market//iCal Export//EN
BEGIN:VEVENT
SUMMARY:All Things British
UID:3555
DTSTAMP:20260423T113300Z
DTSTART:20240919T230000Z
DTEND:20240920T000000Z
LOCATION:Byron Public Library District, 100 S Washington St., Byron, IL 61
 010, United States
ROOM: Meeting Room
DESCRIPTION:&quot;Ever wondered why our flag is called the Union Jack but 
 it is actually the Union Flag? Ever wonder why the King reigns but doesn&#
 039;t rule? Confused about the United Kingdom, Great Britain and the Briti
 sh Isles? Come along and have this and more explained in a fun and informa
 tive way!&quot; John Gowing, a teacher in England for 32 years then a Lon
 don Blue Badge tour guide for 11 years, presents talks on British history,
  culture and London tourist attractions for local groups. 
URL:https://www.byronlibrary.org/event/all-things-british-3555
END:VEVENT
END:VCALENDAR
