BEGIN:VCALENDAR
VERSION:2.0
PRODID:-//Library Market//iCal Export//EN
BEGIN:VEVENT
SUMMARY:Stacked Book Craft Kit
UID:3574
DTSTAMP:20260423T113200Z
DTSTART:20240920T140000Z
DTEND:20240920T220000Z
LOCATION:Byron Public Library District, 100 S Washington St., Byron, IL 61
 010, United States
ROOM: Stacked Book Craft Kit
DESCRIPTION:Make a trendy stacked books craft with the supplies provided i
 n this kit! No registration is required! Kits will be available starting F
 riday, September 20th at 9:00am on a first come first served basis. Limit 
 is 1 per person with no holds. While supplies last!
URL:https://www.byronlibrary.org/event/stacked-book-craft-3574
END:VEVENT
END:VCALENDAR
