BEGIN:VCALENDAR
VERSION:2.0
PRODID:-//Library Market//iCal Export//EN
BEGIN:VEVENT
SUMMARY:Passport Fair
UID:3587
DTSTAMP:20260423T113400Z
DTSTART:20240914T150000Z
DTEND:20240914T190000Z
LOCATION:Byron Public Library District, 100 S Washington St., Byron, IL 61
 010, United States
ROOM: Meeting Room
DESCRIPTION:The Byron Public Library is partnering with the Oregon Public 
 Library and hosting a Passport Fair. Please bring a driver&#039;s license 
 and certified birth certificate for each person applying for a passport. F
 ees do apply. No registration is required.Please see the Oregon Public Lib
 rary website for more information about the paperwork needed and fees: htt
 ps://oregonpubliclibrary.com/services/passports/  
URL:https://www.byronlibrary.org/event/passport-fair-3587
END:VEVENT
END:VCALENDAR
