BEGIN:VCALENDAR
VERSION:2.0
PRODID:-//Library Market//iCal Export//EN
BEGIN:VEVENT
SUMMARY:Crafts at National Night Out
UID:3610
DTSTAMP:20260423T115100Z
DTSTART:20240806T220000Z
DTEND:20240807T000000Z
LOCATION:Byron Fire Station (Outside), 123 N. Franklin St., Byron, IL 6101
 0, United States
ROOM: Byron Fire Station (Lot Outside)
DESCRIPTION:Look for our craft table at National Night Out, sponsored by t
 he Ogle County Sheriff&#039;s Department. Event is located on the lot behi
 nd the Byron Fire Department (across the street from the library).
URL:https://www.byronlibrary.org/event/crafts-national-night-out-3610
END:VEVENT
END:VCALENDAR
