BEGIN:VCALENDAR
VERSION:2.0
PRODID:-//Library Market//iCal Export//EN
BEGIN:VEVENT
SUMMARY:Slightly Spooky Storytime
UID:3611
DTSTAMP:20260423T095600Z
DTSTART:20241022T230000Z
DTEND:20241022T234500Z
LOCATION:Byron Public Library District, 100 S Washington St., Byron, IL 61
 010, United States
ROOM: Activity Room &amp; Meeting Room
DESCRIPTION:A spooktacularly fun night for families! Listen to a  slightl
 y spooky story and decorate a pumpkin, plus art and activity stations in t
 he youth department.
URL:https://www.byronlibrary.org/event/slightly-spooky-storytime-3611
END:VEVENT
END:VCALENDAR
