BEGIN:VCALENDAR
VERSION:2.0
PRODID:-//Library Market//iCal Export//EN
BEGIN:VEVENT
SUMMARY:Winter Wonder Kit
UID:3617
DTSTAMP:20260423T065300Z
DTSTART:20241219T150000Z
DTEND:20241220T020000Z
LOCATION:Byron Public Library District, 100 S Washington St., Byron, IL 61
 010, United States
ROOM: Winter Wonder Kit
DESCRIPTION:Create a winter themed art project. Kits will vary by age grou
 p. For youth ages 3 years-5th grade. Pick up begins: Thursday, Dec. 19th.
URL:https://www.byronlibrary.org/event/youth-take-home-kit-3617
END:VEVENT
END:VCALENDAR
