BEGIN:VCALENDAR
VERSION:2.0
PRODID:-//Library Market//iCal Export//EN
BEGIN:VEVENT
SUMMARY:Christmas Cookie Play Kit
UID:3618
DTSTAMP:20260423T082900Z
DTSTART:20241122T150000Z
DTEND:20241122T230000Z
LOCATION:Byron Public Library District, 100 S Washington St., Byron, IL 61
 010, United States
ROOM: Christmas Cookie Play Kit
DESCRIPTION:A fun cardboard &amp; flannel cookie kit for hours of pretend 
 play! For children ages 3 years-K. Pick up begins on Friday, Nov. 22.
URL:https://www.byronlibrary.org/event/youth-take-home-kit-3618
END:VEVENT
END:VCALENDAR
