BEGIN:VCALENDAR
VERSION:2.0
PRODID:-//Library Market//iCal Export//EN
BEGIN:VEVENT
SUMMARY:Haunted Worlds Kit
UID:3619
DTSTAMP:20260423T095700Z
DTSTART:20241011T140000Z
DTEND:20241011T220000Z
LOCATION:Byron Public Library District, 100 S Washington St., Byron, IL 61
 010, United States
ROOM: Haunted Worlds Kit
DESCRIPTION:Create a 3-D spooky scene with a variety of materials. For you
 th in 1st-5th grade.
URL:https://www.byronlibrary.org/event/youth-take-home-kit-3619
END:VEVENT
END:VCALENDAR
