BEGIN:VCALENDAR
VERSION:2.0
PRODID:-//Library Market//iCal Export//EN
BEGIN:VEVENT
SUMMARY:Baby &amp; Toddler Time-Fall Session: Wednesdays
UID:3630
DTSTAMP:20260423T082800Z
DTSTART:20241113T153000Z
DTEND:20241113T161500Z
LOCATION:Byron Public Library District, 100 S Washington St., Byron, IL 61
 010, United States
ROOM: Meeting Room
DESCRIPTION:
URL:https://www.byronlibrary.org/event/baby-toddler-time-fall-session-wedn
 esdays-3630
END:VEVENT
END:VCALENDAR
