BEGIN:VCALENDAR
VERSION:2.0
PRODID:-//Library Market//iCal Export//EN
BEGIN:VEVENT
SUMMARY:Baby &amp; Toddler Time-Fall Session: Thursdays
UID:3632
DTSTAMP:20260423T095600Z
DTSTART:20240905T143000Z
DTEND:20240905T151500Z
LOCATION:Byron Public Library District, 100 S Washington St., Byron, IL 61
 010, United States
ROOM: Meeting Room
DESCRIPTION:The fall session runs Sept. 5-Nov. 21, but there is no class o
 n October 3.
URL:https://www.byronlibrary.org/event/baby-toddler-time-fall-session-thur
 sdays-3632
END:VEVENT
END:VCALENDAR
