BEGIN:VCALENDAR
VERSION:2.0
PRODID:-//Library Market//iCal Export//EN
BEGIN:VEVENT
SUMMARY:Baby &amp; Toddler Time-Fall Session: Thursdays
UID:3634
DTSTAMP:20260423T095600Z
DTSTART:20240919T143000Z
DTEND:20240919T151500Z
LOCATION:Byron Public Library District, 100 S Washington St., Byron, IL 61
 010, United States
ROOM: Meeting Room
DESCRIPTION:
URL:https://www.byronlibrary.org/event/baby-toddler-time-fall-session-thur
 sdays-3634
END:VEVENT
END:VCALENDAR
