BEGIN:VCALENDAR
VERSION:2.0
PRODID:-//Library Market//iCal Export//EN
BEGIN:VEVENT
SUMMARY:Baby &amp; Toddler Time-Fall Session: Thursdays
UID:3637
DTSTAMP:20260423T095700Z
DTSTART:20241017T143000Z
DTEND:20241017T151500Z
LOCATION:Byron Public Library District, 100 S Washington St., Byron, IL 61
 010, United States
ROOM: Meeting Room
DESCRIPTION:
URL:https://www.byronlibrary.org/event/baby-toddler-time-fall-session-thur
 sdays-3637
END:VEVENT
END:VCALENDAR
