BEGIN:VCALENDAR
VERSION:2.0
PRODID:-//Library Market//iCal Export//EN
BEGIN:VEVENT
SUMMARY:Preschool Storytime-Fall Session: Wednesdays
UID:3643
DTSTAMP:20260423T095600Z
DTSTART:20240904T143000Z
DTEND:20240904T153000Z
LOCATION:Byron Public Library District, 100 S Washington St., Byron, IL 61
 010, United States
ROOM: Activity Room
DESCRIPTION:There is no class on Wednesday, Oct. 2.
URL:https://www.byronlibrary.org/event/preschool-storytime-fall-session-we
 dnesdays-3643
END:VEVENT
END:VCALENDAR
