BEGIN:VCALENDAR
VERSION:2.0
PRODID:-//Library Market//iCal Export//EN
BEGIN:VEVENT
SUMMARY:Preschool Storytime-Fall Session: Wednesdays
UID:3646
DTSTAMP:20260423T103000Z
DTSTART:20240925T143000Z
DTEND:20240925T153000Z
LOCATION:Byron Public Library District, 100 S Washington St., Byron, IL 61
 010, United States
ROOM: Activity Room
DESCRIPTION:
URL:https://www.byronlibrary.org/event/preschool-storytime-fall-session-we
 dnesdays-3646
END:VEVENT
END:VCALENDAR
