BEGIN:VCALENDAR
VERSION:2.0
PRODID:-//Library Market//iCal Export//EN
BEGIN:VEVENT
SUMMARY:Preschool Storytime-Fall Session: Wednesdays
UID:3653
DTSTAMP:20260423T082800Z
DTSTART:20241120T153000Z
DTEND:20241120T163000Z
LOCATION:Byron Public Library District, 100 S Washington St., Byron, IL 61
 010, United States
ROOM: Activity Room
DESCRIPTION:
URL:https://www.byronlibrary.org/event/preschool-storytime-fall-session-we
 dnesdays-3653
END:VEVENT
END:VCALENDAR
