BEGIN:VCALENDAR
VERSION:2.0
PRODID:-//Library Market//iCal Export//EN
BEGIN:VEVENT
SUMMARY:Preschool Storytime-Fall Session: Thursdays
UID:3666
DTSTAMP:20260423T095600Z
DTSTART:20240919T143000Z
DTEND:20240919T153000Z
LOCATION:Byron Public Library District, 100 S Washington St., Byron, IL 61
 010, United States
ROOM: Activity Room
DESCRIPTION:There is no class on October 3rd.
URL:https://www.byronlibrary.org/event/preschool-storytime-fall-session-th
 ursdays-3666
END:VEVENT
END:VCALENDAR
