BEGIN:VCALENDAR
VERSION:2.0
PRODID:-//Library Market//iCal Export//EN
BEGIN:VEVENT
SUMMARY:Preschool Storytime-Fall Session: Thursdays
UID:3673
DTSTAMP:20260423T082800Z
DTSTART:20241114T153000Z
DTEND:20241114T163000Z
LOCATION:Byron Public Library District, 100 S Washington St., Byron, IL 61
 010, United States
ROOM: Activity Room
DESCRIPTION:There is no class on October 3rd.
URL:https://www.byronlibrary.org/event/preschool-storytime-fall-session-th
 ursdays-3673
END:VEVENT
END:VCALENDAR
