BEGIN:VCALENDAR
VERSION:2.0
PRODID:-//Library Market//iCal Export//EN
BEGIN:VEVENT
SUMMARY:Fall Art Kit
UID:3675
DTSTAMP:20260423T115100Z
DTSTART:20240913T140000Z
DTEND:20240913T220000Z
LOCATION:Byron Public Library District, 100 S Washington St., Byron, IL 61
 010, United States
ROOM: Fall Art Kit
DESCRIPTION:Create a fall themed process art project, using a variety of m
 aterials. This project is for ages 3 years-K. 
URL:https://www.byronlibrary.org/event/fall-art-kit-3675
END:VEVENT
END:VCALENDAR
