BEGIN:VCALENDAR
VERSION:2.0
PRODID:-//Library Market//iCal Export//EN
BEGIN:VEVENT
SUMMARY:Bridge
UID:371
DTSTAMP:20260423T082800Z
DTSTART:20240502T180000Z
DTEND:20240502T210000Z
LOCATION:Byron Public Library District, 100 S Washington St., Byron, IL 61
 010, United States
ROOM: Classroom 1
DESCRIPTION:
URL:https://www.byronlibrary.org/event/bridge-371
END:VEVENT
END:VCALENDAR
