BEGIN:VCALENDAR
VERSION:2.0
PRODID:-//Library Market//iCal Export//EN
BEGIN:VEVENT
SUMMARY:Beginner Sewing Class
UID:3840
DTSTAMP:20260423T113400Z
DTSTART:20240904T223000Z
DTEND:20240905T003000Z
LOCATION:Byron Public Library District, 100 S Washington St., Byron, IL 61
 010, United States
ROOM: Creative Studio
DESCRIPTION:
URL:https://www.byronlibrary.org/event/beginner-sewing-class-3840
END:VEVENT
END:VCALENDAR
