BEGIN:VCALENDAR
VERSION:2.0
PRODID:-//Library Market//iCal Export//EN
BEGIN:VEVENT
SUMMARY:Sewing - Tote Bag
UID:3845
DTSTAMP:20260423T115100Z
DTSTART:20240925T223000Z
DTEND:20240926T000000Z
LOCATION:Byron Public Library District, 100 S Washington St., Byron, IL 61
 010, United States
ROOM: Creative Studio
DESCRIPTION:Our sewing project for September is a Tote Bag. Regardless of 
 experience, enrollment in this class requires successful completion of the
  Beginner Sewing Class at Byron Public Library. 
URL:https://www.byronlibrary.org/event/sewing-tote-bag-3845
END:VEVENT
END:VCALENDAR
