BEGIN:VCALENDAR
VERSION:2.0
PRODID:-//Library Market//iCal Export//EN
BEGIN:VEVENT
SUMMARY:Wednesday Night Readers
UID:3851
DTSTAMP:20260423T115100Z
DTSTART:20240918T233000Z
DTEND:20240919T003000Z
LOCATION:Byron Public Library District, 100 S Washington St., Byron, IL 61
 010, United States
ROOM: Classroom 1
DESCRIPTION:Brimming with the electrifying humor and lacerating observatio
 ns that have made Everett a &quot;literary icon&quot; (Oprah Daily), and o
 ne of the most decorated writers of our lifetime, James is destined to be 
 a major publishing event and a cornerstone of twenty-first century America
 n literature. 
URL:https://www.byronlibrary.org/event/wednesday-night-readers-3851
END:VEVENT
END:VCALENDAR
