BEGIN:VCALENDAR
VERSION:2.0
PRODID:-//Library Market//iCal Export//EN
BEGIN:VEVENT
SUMMARY:Everything Sublimation - Fall Tea Towels
UID:3852
DTSTAMP:20260423T113300Z
DTSTART:20240909T230000Z
DTEND:20240910T003000Z
LOCATION:Byron Public Library District, 100 S Washington St., Byron, IL 61
 010, United States
ROOM: Creative Studio &amp; Classroom 2
DESCRIPTION:Ever wondered how to use a Sublimation Printer? Join Cathy in 
 our studio as she guides you through the step-by-step process to create a 
 set of Fall Tea Towels. 
URL:https://www.byronlibrary.org/event/everything-sublimation-3852
END:VEVENT
END:VCALENDAR
